BEGIN:VCALENDAR
VERSION:2.0
PRODID:-//Wildes Wohnzimmer - ECPv6.15.20//NONSGML v1.0//EN
CALSCALE:GREGORIAN
METHOD:PUBLISH
X-ORIGINAL-URL:https://wildes-wohnzimmer.de
X-WR-CALDESC:Veranstaltungen für Wildes Wohnzimmer
REFRESH-INTERVAL;VALUE=DURATION:PT1H
X-Robots-Tag:noindex
X-PUBLISHED-TTL:PT1H
BEGIN:VTIMEZONE
TZID:Europe/Berlin
BEGIN:DAYLIGHT
TZOFFSETFROM:+0100
TZOFFSETTO:+0200
TZNAME:CEST
DTSTART:20230326T010000
END:DAYLIGHT
BEGIN:STANDARD
TZOFFSETFROM:+0200
TZOFFSETTO:+0100
TZNAME:CET
DTSTART:20231029T010000
END:STANDARD
BEGIN:DAYLIGHT
TZOFFSETFROM:+0100
TZOFFSETTO:+0200
TZNAME:CEST
DTSTART:20240331T010000
END:DAYLIGHT
BEGIN:STANDARD
TZOFFSETFROM:+0200
TZOFFSETTO:+0100
TZNAME:CET
DTSTART:20241027T010000
END:STANDARD
BEGIN:DAYLIGHT
TZOFFSETFROM:+0100
TZOFFSETTO:+0200
TZNAME:CEST
DTSTART:20250330T010000
END:DAYLIGHT
BEGIN:STANDARD
TZOFFSETFROM:+0200
TZOFFSETTO:+0100
TZNAME:CET
DTSTART:20251026T010000
END:STANDARD
END:VTIMEZONE
BEGIN:VEVENT
DTSTART;TZID=Europe/Berlin:20240516T180000
DTEND;TZID=Europe/Berlin:20240516T180000
DTSTAMP:20260420T122452
CREATED:20240406T095515Z
LAST-MODIFIED:20240406T095515Z
UID:673-1715882400-1715882400@wildes-wohnzimmer.de
SUMMARY:Umgang mit Trotzphasen/Autonomiephasen
DESCRIPTION:Begebt euch mit uns auf eine Reise durch die faszinierende Welt der Trotzphasen und Autonomieentwicklung bei Kindern\, ganz gemütlich auf einem Sitzkissen! In unserem interaktiven Sitzkissen-Vortrag „Umgang mit Trotzphasen/Autonomiephasen“ tauchen wir tief in die Gefühlswelt unserer kleinen Entdecker ein und lernen\, sie besser zu verstehen. \nErforscht gemeinsam mit uns die facettenreiche Welt der kindlichen Emotionen\, insbesondere die häufig auftretende Wut\, und entdeckt\, wie wir als Eltern diese Emotionen liebevoll und einfühlsam begleiten können. Dabei werfen wir auch einen Blick auf unsere eigene Gefühlswelt und lernen\, wie wir mit unseren eigenen Emotionen umgehen können\, um unseren Kindern ein unterstützendes und verständnisvolles Umfeld zu bieten. \nWir werden uns auch intensiv mit der Förderung der Autonomie unserer Kinder beschäftigen und herausfinden\, wie wir ihre Selbstständigkeit und Selbstbestimmtheit liebevoll unterstützen können. Durch praktische Deeskalationsmethoden und bewährte Tipps & Tricks für den Alltag werden wir gemeinsam Werkzeuge entwickeln\, um schwierige Situationen souverän zu meistern und eine harmonische Beziehung zu unseren Kindern zu fördern. \nSeid dabei und tauche ein in eine Welt voller Erkenntnisse\, Austausch und liebevoller Unterstützung – gemütlich auf einem Sitzkissen! \nAnmeldung\n\n                    Anmeldeformular VortragVornameNachnameE-Mail AdresseIch bin Mitglied im Wilden Wohnzimmer Ja NeinDeine NachrichtAnmelden
URL:https://wildes-wohnzimmer.de/event/umgang-mit-trotzphasen-autonomiephasen/
LOCATION:Wildes Wohnzimmer\, Marienstraße 3\, Lorch\, 73547\, Deutschland
CATEGORIES:Sitzkissen-Vorträge
ATTACH;FMTTYPE=image/jpeg:https://wildes-wohnzimmer.de/wp-content/uploads/2024/03/pexels-jep-gambardella-6224242-1-scaled.jpg
END:VEVENT
END:VCALENDAR