BEGIN:VCALENDAR
VERSION:2.0
PRODID:-//Wildes Wohnzimmer - ECPv6.15.20//NONSGML v1.0//EN
CALSCALE:GREGORIAN
METHOD:PUBLISH
X-ORIGINAL-URL:https://wildes-wohnzimmer.de
X-WR-CALDESC:Veranstaltungen für Wildes Wohnzimmer
REFRESH-INTERVAL;VALUE=DURATION:PT1H
X-Robots-Tag:noindex
X-PUBLISHED-TTL:PT1H
BEGIN:VTIMEZONE
TZID:Europe/Berlin
BEGIN:DAYLIGHT
TZOFFSETFROM:+0100
TZOFFSETTO:+0200
TZNAME:CEST
DTSTART:20230326T010000
END:DAYLIGHT
BEGIN:STANDARD
TZOFFSETFROM:+0200
TZOFFSETTO:+0100
TZNAME:CET
DTSTART:20231029T010000
END:STANDARD
BEGIN:DAYLIGHT
TZOFFSETFROM:+0100
TZOFFSETTO:+0200
TZNAME:CEST
DTSTART:20240331T010000
END:DAYLIGHT
BEGIN:STANDARD
TZOFFSETFROM:+0200
TZOFFSETTO:+0100
TZNAME:CET
DTSTART:20241027T010000
END:STANDARD
BEGIN:DAYLIGHT
TZOFFSETFROM:+0100
TZOFFSETTO:+0200
TZNAME:CEST
DTSTART:20250330T010000
END:DAYLIGHT
BEGIN:STANDARD
TZOFFSETFROM:+0200
TZOFFSETTO:+0100
TZNAME:CET
DTSTART:20251026T010000
END:STANDARD
END:VTIMEZONE
BEGIN:VEVENT
DTSTART;TZID=Europe/Berlin:20240407T110000
DTEND;TZID=Europe/Berlin:20240407T150000
DTSTAMP:20260419T142752
CREATED:20240327T220156Z
LAST-MODIFIED:20240406T095603Z
UID:618-1712487600-1712502000@wildes-wohnzimmer.de
SUMMARY:Tag der offenen Türen
DESCRIPTION:Sei herzlich eingeladen zu unserem Tag der offenen Tür im Wilden Wohnzimmer! \nAm Sonntag\, den 7. April\, öffnen wir von 11 bis 15 Uhr erneut unsere Türen für alle\, die mehr über uns erfahren möchten. \nErkunde unsere liebevoll gestalteten Räumlichkeiten\, entdecke unsere Angebote für Familien und tauche ein in die Welt des Wilden Wohnzimmers. Es erwartet dich ein entspannter Tag voller Spaß und Gemeinschaft – sei dabei und erlebe\, was uns so besonders macht!
URL:https://wildes-wohnzimmer.de/event/tag-der-offenen-tueren/
LOCATION:Wildes Wohnzimmer\, Marienstraße 3\, Lorch\, 73547\, Deutschland
CATEGORIES:Allgemein
ATTACH;FMTTYPE=image/jpeg:https://wildes-wohnzimmer.de/wp-content/uploads/2024/03/pexels-tatiana-syrikova-3933266-scaled.jpg
END:VEVENT
END:VCALENDAR